{"text_format":"1","workbook":"xlsx","n_sheets":2,"sheets":["Sheet1","Sheet2"],"not_rendered":{"charts":0,"images":0,"macros":1,"external_links":0,"defined_names":1,"comments":0,"pivot_tables":0},"unopened":[],"bounds":{"document_bytes":16777216,"sheet_cells":100000,"rows_first":2000,"rows_last":500,"rows_between":2000,"halvings":0,"cell_chars":16384,"cell_head_chars":4096},"cells_cut":0,"cells_raw":0,"read":"whole","date_system":"1900"}

{"sheet":"Sheet1","index":0,"n_rows":101,"n_cols":29,"rows_kept":101,"cut":false,"hidden":false,"merged":[]}
[null,"Course Standards","Major",null,"Item","pts","Aligned Standard 1","Aligned Standard 2","Prac","Maj","Rigor","Comp","HQ","a","a&p","mpts","P","C","A"]
[{"$f":"COUNTIF($G$2:$H$101,B2)","v":0},"A1.N-RN.B.3",null,null,1,null,null,null,null,{"$f":"IFERROR(IF(VLOOKUP(G2,$B$2:$C$50,2,FALSE)=\"x\",\"x\", IF(VLOOKUP(H2,$B$2:$C$50,2,FALSE)=\"x\",\"x\",\" \")),0)","v":0},null,null,null,{"$f":"IF(ISBLANK(G2),0,1)","v":0},{"$f":"IF(AND(N2=1,I2=\"x\"),1,0)","v":0},{"$f":"IF(J2=\"x\",F2,0)","v":0},{"$f":"IF(K2=\"P\",F2,0)","v":0},{"$f":"IF(OR(K2=\"C\",K2=\"PC\"),F2,0)","v":0},{"$f":"IF(AND(Q2=0,R2=0),F2,0)","v":0},{"$f":"IF(M2=\"x\",1,0)","v":0},null,null,null,{"$f":"IF(F2>0,1,0)","v":0},null,null,"Total # Items",{"$f":"SUM(X2:X101)","v":0}]
[0,"A1.N-Q.A.1","x",null,2,null,null,null,null,{"$f":"IFERROR(IF(VLOOKUP(G3,$B$2:$C$50,2,FALSE)=\"x\",\"x\", IF(VLOOKUP(H3,$B$2:$C$50,2,FALSE)=\"x\",\"x\",\" \")),0)","v":0},null,null,null,0,0,{"$f":"IF(J3=\"x\",F3,0)","v":0},0,0,0,{"$f":"IF(M3=\"x\",1,0)","v":0},null,null,null,{"$f":"IF(F3>0,1,0)","v":0},null,null,"Total # Points",{"$f":"SUM(F2:F101)","v":0}]
[0,"A1.N-Q.A.2","x",null,3,null,null,null,null,0,null,null,null,0,0,0,0,0,0,0,null,null,null,0]
[0,"A1.N-Q.A.3","x",null,4,null,null,null,null,0,null,null,null,0,0,0,0,0,0,0,null,null,null,0,null,null,"percent of items that align",{"$f":"SUM(N2:N101)/AB2","v":{"$error":"#DIV/0!"}},{"$f":"AB5","v":{"$error":"#DIV/0!"}}]
[0,"A1.A-SSE.A.1","x",null,5,null,null,null,null,0,null,null,null,0,0,0,0,0,0,0,null,null,null,0,null,null,"items aligned, practices",{"$f":"SUM(O2:O101)/AB2","v":{"$error":"#DIV/0!"}},{"$f":"AB6","v":{"$error":"#DIV/0!"}}]
[0,"A1.A-SSE.A.2","x",null,6,null,null,null,null,0,null,null,null,0,0,0,0,0,0,0,null,null,null,0,null,null,"percent of points major",{"$f":"SUM(P2:P101)/AB3","v":{"$error":"#DIV/0!"}},{"$f":"AB7","v":{"$error":"#DIV/0!"}}]
[0,"A1.A-SSE.B.3","x",null,7,null,null,null,null,0,null,null,null,0,0,0,0,0,0,0,null,null,null,0]
[0,"A1.A-APR.A.1",null,null,8,null,null,null,null,0,null,null,null,0,0,0,0,0,0,0,null,null,null,0,null,null,"Aspect of Rigor points"]
[0,"A1.A-APR.B.3","x",null,9,null,null,null,null,0,null,null,null,0,0,0,0,0,0,0,null,null,null,0,null,null,"Procedural (P)",{"$f":"SUM(Q2:Q100)/AB3","v":{"$error":"#DIV/0!"}},{"$f":"ABS(AB10-0.25)","v":{"$error":"#DIV/0!"}}]
[0,"A1.A-CED.A.1","x",null,10,null,null,null,null,0,null,null,null,0,0,0,0,0,0,0,null,null,null,0,null,null,"Conceptual (C,PC)",{"$f":"SUM(R2:R101)/AB3","v":{"$error":"#DIV/0!"}},{"$f":"ABS(0.375-AB11)","v":{"$error":"#DIV/0!"}}]
[0,"A1.A-CED.A.2","x",null,11,null,null,null,null,0,null,null,null,0,0,0,0,0,0,0,null,null,null,0,null,null,"Application (PA,PCA,CA)",{"$f":"SUM(S2:S101)/AB3","v":{"$error":"#DIV/0!"}},{"$f":"ABS(0.375-AB12)","v":{"$error":"#DIV/0!"}}]
[0,"A1.A-CED.A.3","x",null,12,null,null,null,null,0,null,null,null,0,0,0,0,0,0,0,null,null,null,0]
[0,"A1.A-CED.A.4","x",null,13,null,null,null,null,0,null,null,null,0,0,0,0,0,0,0,null,null,null,0,null,null,"Complexity C2",{"$f":"COUNTIF(L2:L101,\"C2\")","v":0},{"$f":"COUNTIF(L2:L101,\"C2\")","v":0}]
[0,"A1.A-REI.A.1","x",null,14,null,null,null,null,0,null,null,null,0,0,0,0,0,0,0,null,null,null,0,null,null,"Complexity C3",{"$f":"COUNTIF(L2:L101,\"C3\")","v":0},{"$f":"COUNTIF(L2:L101,\"C3\")","v":0}]
[0,"A1.A-REI.B.3",null,null,15,null,null,null,null,0,null,null,null,0,0,0,0,0,0,0,null,null,null,0,null,null,"Complexity A2",{"$f":"COUNTIF(L2:L101,\"A2\")","v":0},{"$f":"COUNTIF(L2:L101,\"A2\")","v":0}]
[0,"A1.A-REI.B.4",null,null,16,null,null,null,null,0,null,null,null,0,0,0,0,0,0,0,null,null,null,0,null,null,"Complexity A3",{"$f":"COUNTIF(L2:L101,\"A3\")","v":0},{"$f":"COUNTIF(L2:L101,\"A3\")","v":0}]
[0,"A1.A-REI.C.5",null,null,17,null,null,null,null,0,null,null,null,0,0,0,0,0,0,0,null,null,null,0]
[0,"A1.A-REI.C.6",null,null,18,null,null,null,null,0,null,null,null,0,0,0,0,0,0,0,null,null,null,0,null,null,"High quality items",{"$f":"SUM(T2:T101)/AB2","v":{"$error":"#DIV/0!"}},{"$f":"AB19","v":{"$error":"#DIV/0!"}}]
[0,"A1.A-REI.D.10",null,null,19,null,null,null,null,0,null,null,null,0,0,0,0,0,0,0,null,null,null,0]
[0,"A1.A-REI.D.11",null,null,20,null,null,null,null,0,null,null,null,0,0,0,0,0,0,0,null,null,null,0]
[0,"A1.A-REI.D.12",null,null,21,null,null,null,null,0,null,null,null,0,0,0,0,0,0,0,null,null,null,0]
[0,"A1.F-IF.A.1","x",null,22,null,null,null,null,0,null,null,null,0,0,0,0,0,0,0,null,null,null,0]
[0,"A1.F-IF.A.2","x",null,23,null,null,null,null,0,null,null,null,0,0,0,0,0,0,0,null,null,null,0]
[0,"A1.F-IF.A.3","x",null,24,null,null,null,null,0,null,null,null,0,0,0,0,0,0,0,null,null,null,0]
[0,"A1.F-IF.B.4","x",null,25,null,null,null,null,0,null,null,null,0,0,0,0,0,0,0,null,null,null,0]
[0,"A1.F-IF.B.5","x",null,26,null,null,null,null,0,null,null,null,0,0,0,0,0,0,0,null,null,null,0]
[0,"A1.F-IF.B.6","x",null,27,null,null,null,null,0,null,null,null,0,0,0,0,0,0,0,null,null,null,0]
[0,"A1.F-IF.C.7","x",null,28,null,null,null,null,0,null,null,null,0,0,0,0,0,0,0,null,null,null,0]
[0,"A1.F-IF.C.8","x",null,29,null,null,null,null,0,null,null,null,0,0,0,0,0,0,0,null,null,null,0]
[0,"A1.F-IF.C.9","x",null,30,null,null,null,null,0,null,null,null,0,0,0,0,0,0,0,null,null,null,0]
[0,"A1.F-BF.A.1","x",null,31,null,null,null,null,0,null,null,null,0,0,0,0,0,0,0,null,null,null,0]
[0,"A1.F-BF.B.3",null,null,32,null,null,null,null,0,null,null,null,0,0,0,0,0,0,0,null,null,null,0]
[{"$f":"COUNTIF($G$2:$H$101,B34)","v":0},"A1.F-LE.A.1","x",null,33,null,null,null,null,0,null,null,null,{"$f":"IF(ISBLANK(G34),0,1)","v":0},{"$f":"IF(AND(N34=1,I34=\"x\"),1,0)","v":0},0,{"$f":"IF(K34=\"P\",F34,0)","v":0},{"$f":"IF(OR(K34=\"C\",K34=\"PC\"),F34,0)","v":0},{"$f":"IF(AND(Q34=0,R34=0),F34,0)","v":0},0,null,null,null,0]
[0,"A1.F-LE.A.2","x",null,34,null,null,null,null,0,null,null,null,0,0,0,0,0,0,0,null,null,null,0]
[0,"A1.F-LE.A.3","x",null,35,null,null,null,null,0,null,null,null,0,0,0,0,0,0,0,null,null,null,0]
[0,"A1.F-LE.B.5","x",null,36,null,null,null,null,0,null,null,null,0,0,0,0,0,0,0,null,null,null,0]
[0,"A1.S-ID.A.1",null,null,37,null,null,null,null,0,null,null,null,0,0,0,0,0,0,0,null,null,null,0]
[0,"A1.S-ID.A.2",null,null,38,null,null,null,null,0,null,null,null,0,0,0,0,0,0,0,null,null,null,0]
[0,"A1.S-ID.A.3",null,null,39,null,null,null,null,0,null,null,null,0,0,0,0,0,0,0,null,null,null,0]
[0,"A1.S-ID.B.5",null,null,40,null,null,null,null,0,null,null,null,0,0,0,0,0,0,0,null,null,null,0]
[0,"A1.S-ID.B.6",null,null,41,null,null,null,null,0,null,null,null,0,0,0,0,0,0,0,null,null,null,0]
[0,"A1.S-ID.C.7","x",null,42,null,null,null,null,0,null,null,null,0,0,0,0,0,0,0,null,null,null,0]
[0,"A1.S-ID.C.8","x",null,43,null,null,null,null,0,null,null,null,0,0,0,0,0,0,0,null,null,null,0]
[0,"A1.S-ID.C.9","x",null,44,null,null,null,null,0,null,null,null,0,0,0,0,0,0,0,null,null,null,0]
[0,"A1.S-CP.A.1",null,null,45,null,null,null,null,0,null,null,null,0,0,0,0,0,0,0,null,null,null,0]
[0,"A1.S-CP.A.2",null,null,46,null,null,null,null,0,null,null,null,0,0,0,0,0,0,0,null,null,null,0]
[0,null,null,null,47,null,null,null,null,0,null,null,null,0,0,0,0,0,0,0,null,null,null,0]
[0,null,null,null,48,null,null,null,null,0,null,null,null,0,0,0,0,0,0,0,null,null,null,0]
[0,null,null,null,49,null,null,null,null,0,null,null,null,0,0,0,0,0,0,0,null,null,null,0]
[0,null,null,null,50,null,null,null,null,0,null,null,null,0,0,0,0,0,0,0,null,null,null,0]
[0,null,null,null,51,null,null,null,null,0,null,null,null,0,0,0,0,0,0,0,null,null,null,0]
[0,null,null,null,52,null,null,null,null,0,null,null,null,0,0,0,0,0,0,0,null,null,null,0]
[0,null,null,null,53,null,null,null,null,0,null,null,null,0,0,0,0,0,0,0,null,null,null,0]
[0,null,null,null,54,null,null,null,null,0,null,null,null,0,0,0,0,0,0,0,null,null,null,0]
[0,null,null,null,55,null,null,null,null,0,null,null,null,0,0,0,0,0,0,0,null,null,null,0]
[0,null,null,null,56,null,null,null,null,0,null,null,null,0,0,0,0,0,0,0,null,null,null,0]
[0,null,null,null,57,null,null,null,null,0,null,null,null,0,0,0,0,0,0,0,null,null,null,0]
[0,null,null,null,58,null,null,null,null,0,null,null,null,0,0,0,0,0,0,0,null,null,null,0]
[0,null,null,null,59,null,null,null,null,0,null,null,null,0,0,0,0,0,0,0,null,null,null,0]
[0,null,null,null,60,null,null,null,null,0,null,null,null,0,0,0,0,0,0,0,null,null,null,0]
[0,null,null,null,61,null,null,null,null,0,null,null,null,0,0,0,0,0,0,0,null,null,null,0]
[0,null,null,null,62,null,null,null,null,0,null,null,null,0,0,0,0,0,0,0,null,null,null,0]
[0,null,null,null,63,null,null,null,null,0,null,null,null,0,0,0,0,0,0,0,null,null,null,0]
[0,null,null,null,64,null,null,null,null,0,null,null,null,0,0,0,0,0,0,0,null,null,null,0]
[{"$f":"COUNTIF($G$2:$H$101,B66)","v":0},null,null,null,65,null,null,null,null,0,null,null,null,{"$f":"IF(ISBLANK(G66),0,1)","v":0},{"$f":"IF(AND(N66=1,I66=\"x\"),1,0)","v":0},0,{"$f":"IF(K66=\"P\",F66,0)","v":0},{"$f":"IF(OR(K66=\"C\",K66=\"PC\"),F66,0)","v":0},{"$f":"IF(AND(Q66=0,R66=0),F66,0)","v":0},0,null,null,null,0]
[0,null,null,null,66,null,null,null,null,{"$f":"IFERROR(IF(VLOOKUP(G67,$B$2:$C$50,2,FALSE)=\"x\",\"x\", IF(VLOOKUP(H67,$B$2:$C$50,2,FALSE)=\"x\",\"x\",\" \")),0)","v":0},null,null,null,0,0,{"$f":"IF(J67=\"x\",F67,0)","v":0},0,0,0,{"$f":"IF(M67=\"x\",1,0)","v":0},null,null,null,{"$f":"IF(F67>0,1,0)","v":0}]
[0,null,null,null,67,null,null,null,null,0,null,null,null,0,0,0,0,0,0,0,null,null,null,0]
[0,null,null,null,68,null,null,null,null,0,null,null,null,0,0,0,0,0,0,0,null,null,null,0]
[0,null,null,null,69,null,null,null,null,0,null,null,null,0,0,0,0,0,0,0,null,null,null,0]
[0,null,null,null,70,null,null,null,null,0,null,null,null,0,0,0,0,0,0,0,null,null,null,0]
[0,null,null,null,71,null,null,null,null,0,null,null,null,0,0,0,0,0,0,0,null,null,null,0]
[0,null,null,null,72,null,null,null,null,0,null,null,null,0,0,0,0,0,0,0,null,null,null,0]
[0,null,null,null,73,null,null,null,null,0,null,null,null,0,0,0,0,0,0,0,null,null,null,0]
[0,null,null,null,74,null,null,null,null,0,null,null,null,0,0,0,0,0,0,0,null,null,null,0]
[0,null,null,null,75,null,null,null,null,0,null,null,null,0,0,0,0,0,0,0,null,null,null,0]
[0,null,null,null,76,null,null,null,null,0,null,null,null,0,0,0,0,0,0,0,null,null,null,0]
[0,null,null,null,77,null,null,null,null,0,null,null,null,0,0,0,0,0,0,0,null,null,null,0]
[0,null,null,null,78,null,null,null,null,0,null,null,null,0,0,0,0,0,0,0,null,null,null,0]
[0,null,null,null,79,null,null,null,null,0,null,null,null,0,0,0,0,0,0,0,null,null,null,0]
[0,null,null,null,80,null,null,null,null,0,null,null,null,0,0,0,0,0,0,0,null,null,null,0]
[null,null,null,null,81,null,null,null,null,0,null,null,null,0,0,0,0,0,0,0,null,null,null,0]
[null,null,null,null,82,null,null,null,null,0,null,null,null,0,0,0,0,0,0,0,null,null,null,0]
[null,null,null,null,83,null,null,null,null,0,null,null,null,0,0,0,0,0,0,0,null,null,null,0]
[null,null,null,null,84,null,null,null,null,0,null,null,null,0,0,0,0,0,0,0,null,null,null,0]
[null,null,null,null,85,null,null,null,null,0,null,null,null,0,0,0,0,0,0,0,null,null,null,0]
[null,null,null,null,86,null,null,null,null,0,null,null,null,0,0,0,0,0,0,0,null,null,null,0]
[null,null,null,null,87,null,null,null,null,0,null,null,null,0,0,0,0,0,0,0,null,null,null,0]
[null,null,null,null,88,null,null,null,null,0,null,null,null,0,0,0,0,0,0,0,null,null,null,0]
[null,null,null,null,89,null,null,null,null,0,null,null,null,0,0,0,0,0,0,0,null,null,null,0]
[null,null,null,null,90,null,null,null,null,0,null,null,null,0,0,0,0,0,0,0,null,null,null,0]
[null,null,null,null,91,null,null,null,null,0,null,null,null,0,0,0,0,0,0,0,null,null,null,0]
[null,null,null,null,92,null,null,null,null,0,null,null,null,0,0,0,0,0,0,0,null,null,null,0]
[null,null,null,null,93,null,null,null,null,0,null,null,null,0,0,0,0,0,0,0,null,null,null,0]
[null,null,null,null,94,null,null,null,null,0,null,null,null,0,0,0,0,0,0,0,null,null,null,0]
[null,null,null,null,95,null,null,null,null,0,null,null,null,0,0,0,0,0,0,0,null,null,null,0]
[null,null,null,null,96,null,null,null,null,0,null,null,null,0,0,0,0,0,0,0,null,null,null,0]
[null,null,null,null,97,null,null,null,null,0,null,null,null,0,{"$f":"IF(AND(N98=1,I98=\"x\"),1,0)","v":0},0,0,0,{"$f":"IF(AND(Q98=0,R98=0),F98,0)","v":0},0,null,null,null,0]
[null,null,null,null,98,null,null,null,null,0,null,null,null,0,0,0,0,0,0,0,null,null,null,0]
[null,null,null,null,99,null,null,null,null,0,null,null,null,0,0,0,0,0,0,0,null,null,null,0]
[null,null,null,null,100,null,null,null,null,0,null,null,null,0,0,0,0,0,0,0,null,null,null,0]

{"sheet":"Sheet2","index":1,"n_rows":81,"n_cols":5,"rows_kept":81,"cut":false,"hidden":false,"merged":[]}
["Y","P","x"]
["N","PC",null,"C2"]
[null,"C",null,"C3"]
[null,"PA",null,"A2"]
[null,"CA",null,"A3"]
[null,"PCA"]
[]
[]
[]
[]
[]
[]
[]
[null,null,null,null,{"$f":"IF(Sheet1!B14<>0,Sheet1!B14,\"\")","v":"A1.A-CED.A.4"}]
[null,null,null,null,{"$f":"IF(Sheet1!B15<>0,Sheet1!B15,\"\")","v":"A1.A-REI.A.1"}]
[null,null,null,null,{"$f":"IF(Sheet1!B16<>0,Sheet1!B16,\"\")","v":"A1.A-REI.B.3"}]
[null,null,null,null,{"$f":"IF(Sheet1!B17<>0,Sheet1!B17,\"\")","v":"A1.A-REI.B.4"}]
[null,null,null,null,{"$f":"IF(Sheet1!B18<>0,Sheet1!B18,\"\")","v":"A1.A-REI.C.5"}]
[null,null,null,null,{"$f":"IF(Sheet1!B19<>0,Sheet1!B19,\"\")","v":"A1.A-REI.C.6"}]
[null,null,null,null,{"$f":"IF(Sheet1!B20<>0,Sheet1!B20,\"\")","v":"A1.A-REI.D.10"}]
[null,null,null,null,{"$f":"IF(Sheet1!B21<>0,Sheet1!B21,\"\")","v":"A1.A-REI.D.11"}]
[null,null,null,null,{"$f":"IF(Sheet1!B22<>0,Sheet1!B22,\"\")","v":"A1.A-REI.D.12"}]
[null,null,null,null,{"$f":"IF(Sheet1!B23<>0,Sheet1!B23,\"\")","v":"A1.F-IF.A.1"}]
[null,null,null,null,{"$f":"IF(Sheet1!B24<>0,Sheet1!B24,\"\")","v":"A1.F-IF.A.2"}]
[null,null,null,null,{"$f":"IF(Sheet1!B25<>0,Sheet1!B25,\"\")","v":"A1.F-IF.A.3"}]
[null,null,null,null,{"$f":"IF(Sheet1!B26<>0,Sheet1!B26,\"\")","v":"A1.F-IF.B.4"}]
[null,null,null,null,{"$f":"IF(Sheet1!B27<>0,Sheet1!B27,\"\")","v":"A1.F-IF.B.5"}]
[null,null,null,null,{"$f":"IF(Sheet1!B28<>0,Sheet1!B28,\"\")","v":"A1.F-IF.B.6"}]
[null,null,null,null,{"$f":"IF(Sheet1!B29<>0,Sheet1!B29,\"\")","v":"A1.F-IF.C.7"}]
[null,null,null,null,{"$f":"IF(Sheet1!B30<>0,Sheet1!B30,\"\")","v":"A1.F-IF.C.8"}]
[null,null,null,null,{"$f":"IF(Sheet1!B31<>0,Sheet1!B31,\"\")","v":"A1.F-IF.C.9"}]
[null,null,null,null,{"$f":"IF(Sheet1!B32<>0,Sheet1!B32,\"\")","v":"A1.F-BF.A.1"}]
[null,null,null,null,{"$f":"IF(Sheet1!B33<>0,Sheet1!B33,\"\")","v":"A1.F-BF.B.3"}]
[null,null,null,null,{"$f":"IF(Sheet1!B34<>0,Sheet1!B34,\"\")","v":"A1.F-LE.A.1"}]
[null,null,null,null,{"$f":"IF(Sheet1!B35<>0,Sheet1!B35,\"\")","v":"A1.F-LE.A.2"}]
[null,null,null,null,{"$f":"IF(Sheet1!B36<>0,Sheet1!B36,\"\")","v":"A1.F-LE.A.3"}]
[null,null,null,null,{"$f":"IF(Sheet1!B37<>0,Sheet1!B37,\"\")","v":"A1.F-LE.B.5"}]
[null,null,null,null,{"$f":"IF(Sheet1!B38<>0,Sheet1!B38,\"\")","v":"A1.S-ID.A.1"}]
[null,null,null,null,{"$f":"IF(Sheet1!B39<>0,Sheet1!B39,\"\")","v":"A1.S-ID.A.2"}]
[null,null,null,null,{"$f":"IF(Sheet1!B40<>0,Sheet1!B40,\"\")","v":"A1.S-ID.A.3"}]
[null,null,null,null,{"$f":"IF(Sheet1!B41<>0,Sheet1!B41,\"\")","v":"A1.S-ID.B.5"}]
[null,null,null,null,{"$f":"IF(Sheet1!B42<>0,Sheet1!B42,\"\")","v":"A1.S-ID.B.6"}]
[null,null,null,null,{"$f":"IF(Sheet1!B43<>0,Sheet1!B43,\"\")","v":"A1.S-ID.C.7"}]
[null,null,null,null,{"$f":"IF(Sheet1!B44<>0,Sheet1!B44,\"\")","v":"A1.S-ID.C.8"}]
[null,null,null,null,{"$f":"IF(Sheet1!B45<>0,Sheet1!B45,\"\")","v":"A1.S-ID.C.9"}]
[null,null,null,null,{"$f":"IF(Sheet1!B46<>0,Sheet1!B46,\"\")","v":"A1.S-CP.A.1"}]
[null,null,null,null,{"$f":"IF(Sheet1!B47<>0,Sheet1!B47,\"\")","v":"A1.S-CP.A.2"}]
[null,null,null,null,{"$f":"IF(Sheet1!B48<>0,Sheet1!B48,\"\")","v":""}]
[null,null,null,null,{"$f":"IF(Sheet1!B49<>0,Sheet1!B49,\"\")","v":""}]
[null,null,null,null,{"$f":"IF(Sheet1!B50<>0,Sheet1!B50,\"\")","v":""}]
[null,null,null,null,{"$f":"IF(Sheet1!B51<>0,Sheet1!B51,\"\")","v":""}]
[null,null,null,null,{"$f":"IF(Sheet1!B52<>0,Sheet1!B52,\"\")","v":""}]
[null,null,null,null,{"$f":"IF(Sheet1!B53<>0,Sheet1!B53,\"\")","v":""}]
[null,null,null,null,{"$f":"IF(Sheet1!B54<>0,Sheet1!B54,\"\")","v":""}]
[null,null,null,null,{"$f":"IF(Sheet1!B55<>0,Sheet1!B55,\"\")","v":""}]
[null,null,null,null,{"$f":"IF(Sheet1!B56<>0,Sheet1!B56,\"\")","v":""}]
[null,null,null,null,{"$f":"IF(Sheet1!B57<>0,Sheet1!B57,\"\")","v":""}]
[null,null,null,null,{"$f":"IF(Sheet1!B58<>0,Sheet1!B58,\"\")","v":""}]
[null,null,null,null,{"$f":"IF(Sheet1!B59<>0,Sheet1!B59,\"\")","v":""}]
[null,null,null,null,{"$f":"IF(Sheet1!B60<>0,Sheet1!B60,\"\")","v":""}]
[null,null,null,null,{"$f":"IF(Sheet1!B61<>0,Sheet1!B61,\"\")","v":""}]
[null,null,null,null,{"$f":"IF(Sheet1!B62<>0,Sheet1!B62,\"\")","v":""}]
[null,null,null,null,{"$f":"IF(Sheet1!B63<>0,Sheet1!B63,\"\")","v":""}]
[null,null,null,null,{"$f":"IF(Sheet1!B64<>0,Sheet1!B64,\"\")","v":""}]
[null,null,null,null,{"$f":"IF(Sheet1!B65<>0,Sheet1!B65,\"\")","v":""}]
[null,null,null,null,{"$f":"IF(Sheet1!B66<>0,Sheet1!B66,\"\")","v":""}]
[null,null,null,null,{"$f":"IF(Sheet1!B67<>0,Sheet1!B67,\"\")","v":""}]
[null,null,null,null,{"$f":"IF(Sheet1!B68<>0,Sheet1!B68,\"\")","v":""}]
[null,null,null,null,{"$f":"IF(Sheet1!B69<>0,Sheet1!B69,\"\")","v":""}]
[null,null,null,null,{"$f":"IF(Sheet1!B70<>0,Sheet1!B70,\"\")","v":""}]
[null,null,null,null,{"$f":"IF(Sheet1!B71<>0,Sheet1!B71,\"\")","v":""}]
[null,null,null,null,{"$f":"IF(Sheet1!B72<>0,Sheet1!B72,\"\")","v":""}]
[null,null,null,null,{"$f":"IF(Sheet1!B73<>0,Sheet1!B73,\"\")","v":""}]
[null,null,null,null,{"$f":"IF(Sheet1!B74<>0,Sheet1!B74,\"\")","v":""}]
[null,null,null,null,{"$f":"IF(Sheet1!B75<>0,Sheet1!B75,\"\")","v":""}]
[null,null,null,null,{"$f":"IF(Sheet1!B76<>0,Sheet1!B76,\"\")","v":""}]
[null,null,null,null,{"$f":"IF(Sheet1!B77<>0,Sheet1!B77,\"\")","v":""}]
[null,null,null,null,{"$f":"IF(Sheet1!B78<>0,Sheet1!B78,\"\")","v":""}]
[null,null,null,null,{"$f":"IF(Sheet1!B79<>0,Sheet1!B79,\"\")","v":""}]
[null,null,null,null,{"$f":"IF(Sheet1!B80<>0,Sheet1!B80,\"\")","v":""}]
[null,null,null,null,{"$f":"IF(Sheet1!B81<>0,Sheet1!B81,\"\")","v":""}]